BEGIN:VCALENDAR
VERSION:2.0
PRODID:icalendar-ruby
CALSCALE:GREGORIAN
METHOD:PUBLISH
BEGIN:VEVENT
DTSTAMP:20260421T111208Z
UID:12-1785604@simpsonbaptist.tithelysetup5.com
DTSTART:20260624T234500Z
DTEND:20260625T003000Z
CLASS:PUBLIC
CREATED:20260420T193252
DESCRIPTION:Mid week children ministry for children in Kindergarten through
  5th grade.
LAST-MODIFIED:20260420T193252
LOCATION:Family Life Center/Gym
SUMMARY:Team Kid
URL;VALUE=URI:https://www.simpsonbaptist.org/events/team-kid/2026-06-24
END:VEVENT
END:VCALENDAR
