BEGIN:VCALENDAR
VERSION:2.0
PRODID:icalendar-ruby
CALSCALE:GREGORIAN
METHOD:PUBLISH
BEGIN:VEVENT
DTSTAMP:20260421T125524Z
UID:12-1786994@simpsonbaptist.tithelysetup5.com
DTSTART:20260701T234500Z
DTEND:20260702T003000Z
CLASS:PUBLIC
CREATED:20260421T063918
DESCRIPTION:Mid week children ministry for children in Kindergarten through
  5th grade.
LAST-MODIFIED:20260421T063918
LOCATION:Family Life Center/Gym
SUMMARY:Team Kid
URL;VALUE=URI:https://www.simpsonbaptist.org/events/team-kid/2026-07-01
END:VEVENT
END:VCALENDAR
