BEGIN:VCALENDAR
VERSION:2.0
PRODID:icalendar-ruby
CALSCALE:GREGORIAN
METHOD:PUBLISH
BEGIN:VEVENT
DTSTAMP:20260421T183906Z
UID:12-1789773@simpsonbaptist.tithelysetup5.com
DTSTART:20260708T234500Z
DTEND:20260709T003000Z
CLASS:PUBLIC
CREATED:20260421T115344
DESCRIPTION:Mid week children ministry for children in Kindergarten through
  5th grade.
LAST-MODIFIED:20260421T115344
LOCATION:Family Life Center/Gym
SUMMARY:Team Kid
URL;VALUE=URI:https://www.simpsonbaptist.org/events/team-kid/2026-07-08
END:VEVENT
END:VCALENDAR
