BEGIN:VCALENDAR
VERSION:2.0
PRODID:icalendar-ruby
CALSCALE:GREGORIAN
METHOD:PUBLISH
BEGIN:VEVENT
DTSTAMP:20260423T085427Z
UID:12-1802276@simpsonbaptist.tithelysetup5.com
DTSTART:20260722T234500Z
DTEND:20260723T003000Z
CLASS:PUBLIC
CREATED:20260422T212137
DESCRIPTION:Mid week children ministry for children in Kindergarten through
  5th grade.
LAST-MODIFIED:20260422T212137
LOCATION:Family Life Center/Gym
SUMMARY:Team Kid
URL;VALUE=URI:https://www.simpsonbaptist.org/events/team-kid/2026-07-22
END:VEVENT
END:VCALENDAR
