BEGIN:VCALENDAR
VERSION:2.0
PRODID:icalendar-ruby
CALSCALE:GREGORIAN
METHOD:PUBLISH
BEGIN:VEVENT
DTSTAMP:20260423T135107Z
UID:12-1803671@simpsonbaptist.tithelysetup5.com
DTSTART:20260812T234500Z
DTEND:20260813T003000Z
CLASS:PUBLIC
CREATED:20260423T065128
DESCRIPTION:Mid week children ministry for children in Kindergarten through
  5th grade.
LAST-MODIFIED:20260423T065128
LOCATION:Family Life Center/Gym
SUMMARY:Team Kid
URL;VALUE=URI:https://www.simpsonbaptist.org/events/team-kid/2026-08-12
END:VEVENT
END:VCALENDAR
