BEGIN:VCALENDAR
VERSION:2.0
PRODID:icalendar-ruby
CALSCALE:GREGORIAN
METHOD:PUBLISH
BEGIN:VEVENT
DTSTAMP:20260423T224643Z
UID:12-1807852@simpsonbaptist.tithelysetup5.com
DTSTART:20260916T234500Z
DTEND:20260917T003000Z
CLASS:PUBLIC
CREATED:20260423T153604
DESCRIPTION:Mid week children ministry for children in Kindergarten through
  5th grade.
LAST-MODIFIED:20260423T153604
LOCATION:Family Life Center/Gym
SUMMARY:Team Kid
URL;VALUE=URI:https://www.simpsonbaptist.org/events/team-kid/2026-09-16
END:VEVENT
END:VCALENDAR
