BEGIN:VCALENDAR
VERSION:2.0
PRODID:icalendar-ruby
CALSCALE:GREGORIAN
METHOD:PUBLISH
BEGIN:VEVENT
DTSTAMP:20260424T001425Z
UID:12-1809245@simpsonbaptist.tithelysetup5.com
DTSTART:20260923T234500Z
DTEND:20260924T003000Z
CLASS:PUBLIC
CREATED:20260423T182947
DESCRIPTION:Mid week children ministry for children in Kindergarten through
  5th grade.
LAST-MODIFIED:20260423T182947
LOCATION:Family Life Center/Gym
SUMMARY:Team Kid
URL;VALUE=URI:https://www.simpsonbaptist.org/events/team-kid/2026-09-23
END:VEVENT
END:VCALENDAR
