BEGIN:VCALENDAR
VERSION:2.0
PRODID:icalendar-ruby
CALSCALE:GREGORIAN
METHOD:PUBLISH
BEGIN:VEVENT
DTSTAMP:20260424T032231Z
UID:12-1810639@simpsonbaptist.tithelysetup5.com
DTSTART:20261007T234500Z
DTEND:20261008T003000Z
CLASS:PUBLIC
CREATED:20260423T212345
DESCRIPTION:Mid week children ministry for children in Kindergarten through
  5th grade.
LAST-MODIFIED:20260423T212345
LOCATION:Family Life Center/Gym
SUMMARY:Team Kid
URL;VALUE=URI:https://www.simpsonbaptist.org/events/team-kid/2026-10-07
END:VEVENT
END:VCALENDAR
